BEGIN:VCALENDAR
VERSION:2.0
PRODID:-//Festa del Giglio - Grv Larp - ECPv6.5.1.5//NONSGML v1.0//EN
CALSCALE:GREGORIAN
METHOD:PUBLISH
X-WR-CALNAME:Festa del Giglio - Grv Larp
X-ORIGINAL-URL:https://festadelgiglio.com
X-WR-CALDESC:Eventi per Festa del Giglio - Grv Larp
REFRESH-INTERVAL;VALUE=DURATION:PT1H
X-Robots-Tag:noindex
X-PUBLISHED-TTL:PT1H
BEGIN:VTIMEZONE
TZID:Europe/Rome
BEGIN:DAYLIGHT
TZOFFSETFROM:+0100
TZOFFSETTO:+0200
TZNAME:CEST
DTSTART:20200329T010000
END:DAYLIGHT
BEGIN:STANDARD
TZOFFSETFROM:+0200
TZOFFSETTO:+0100
TZNAME:CET
DTSTART:20201025T010000
END:STANDARD
END:VTIMEZONE
BEGIN:VEVENT
DTSTART;TZID=Europe/Rome:20200912T150000
DTEND;TZID=Europe/Rome:20200913T173000
DTSTAMP:20260425T131906
CREATED:20200709T161521Z
LAST-MODIFIED:20200718T120855Z
UID:1114-1599922800-1600018200@festadelgiglio.com
SUMMARY:Festa del Giglio 2020
DESCRIPTION:Il primo evento multigiorno di Festa del Giglio si svolgerà il 12 e il 13 settembre 2020 presso il Parco Santa Geffa di Trani\, in Puglia. \n[vc_row][vc_column icons_position=”left”]Le tue opzioniCosti[vc_empty_space height=”4rem” alter_height=”medium” hide_on_desktop=”” hide_on_notebook=”” hide_on_tablet=”” hide_on_mobile=””]\n			PNG€ 20\nComprende posto dove soggiornare\, la cena e i servizi\nPosti Massimi (Var): 10\nPosti Occupati: 10\n\n			PG - Due giorni Full€ 30\nBiglietto per 2 giorni\nCena Primo giorno\nBevande in quantità\nPossibilità di attrezzare tenda\n\n			PG - Un giorno€ 20\nBiglietto per 1 giorno\nSe Sabato con cena\nBevande in quantità\n[/vc_column][/vc_row]
URL:https://festadelgiglio.com/event/festa-del-giglio-2020/
LOCATION:Parco Santa Geffa\, Strada Vicinale delle Tufare\, Trani\, 76125\, Italia
CATEGORIES:FdG
ATTACH;FMTTYPE=image/png:https://festadelgiglio.com/wp-content/uploads/2020/07/logo-2020-per-sito-1.png
ORGANIZER;CN="Cronache del Tacco":MAILTO:cronanachedeltacco@gmail.com
END:VEVENT
END:VCALENDAR